BEGIN:VCALENDAR
VERSION:2.0
PRODID:-//CII BUSINESS EXCELLENCE - ECPv5.0.1//NONSGML v1.0//EN
CALSCALE:GREGORIAN
METHOD:PUBLISH
X-WR-CALNAME:CII BUSINESS EXCELLENCE
X-ORIGINAL-URL:https://ciibizex.in
X-WR-CALDESC:Events for CII BUSINESS EXCELLENCE
BEGIN:VTIMEZONE
TZID:Asia/Kolkata
BEGIN:STANDARD
TZOFFSETFROM:+0530
TZOFFSETTO:+0530
TZNAME:IST
DTSTART:20210101T000000
END:STANDARD
END:VTIMEZONE
BEGIN:VEVENT
DTSTART;TZID=Asia/Kolkata:20210921T110000
DTEND;TZID=Asia/Kolkata:20210924T160000
DTSTAMP:20260424T222805
CREATED:20210830T094355Z
LAST-MODIFIED:20210830T094355Z
UID:2741-1632222000-1632499200@ciibizex.in
SUMMARY:3rd BE Conclave
DESCRIPTION:
URL:https://ciibizex.in/event/3rd-be-conclave/
END:VEVENT
END:VCALENDAR