BEGIN:VCALENDAR
VERSION:2.0
PRODID:-//CII BUSINESS EXCELLENCE - ECPv5.0.1//NONSGML v1.0//EN
CALSCALE:GREGORIAN
METHOD:PUBLISH
X-WR-CALNAME:CII BUSINESS EXCELLENCE
X-ORIGINAL-URL:https://ciibizex.in
X-WR-CALDESC:Events for CII BUSINESS EXCELLENCE
BEGIN:VTIMEZONE
TZID:Asia/Kolkata
BEGIN:STANDARD
TZOFFSETFROM:+0530
TZOFFSETTO:+0530
TZNAME:IST
DTSTART:20200101T000000
END:STANDARD
END:VTIMEZONE
BEGIN:VEVENT
DTSTART;TZID=Asia/Kolkata:20200622T173000
DTEND;TZID=Asia/Kolkata:20200624T173000
DTSTAMP:20260425T203141
CREATED:20200605T060325Z
LAST-MODIFIED:20200605T060326Z
UID:1947-1592847000-1593019800@ciibizex.in
SUMMARY:Assessor Transition Program
DESCRIPTION:
URL:https://ciibizex.in/event/assessor-transition-program/
LOCATION:Ahmedabad\, Ahmedabad\, India
END:VEVENT
END:VCALENDAR