BEGIN:VCALENDAR
VERSION:2.0
PRODID:-//CII BUSINESS EXCELLENCE - ECPv5.0.1//NONSGML v1.0//EN
CALSCALE:GREGORIAN
METHOD:PUBLISH
X-WR-CALNAME:CII BUSINESS EXCELLENCE
X-ORIGINAL-URL:https://ciibizex.in
X-WR-CALDESC:Events for CII BUSINESS EXCELLENCE
BEGIN:VTIMEZONE
TZID:Asia/Kolkata
BEGIN:STANDARD
TZOFFSETFROM:+0530
TZOFFSETTO:+0530
TZNAME:IST
DTSTART:20200101T000000
END:STANDARD
END:VTIMEZONE
BEGIN:VEVENT
DTSTART;TZID=Asia/Kolkata:20200909T140000
DTEND;TZID=Asia/Kolkata:20200911T170000
DTSTAMP:20260425T162446
CREATED:20200804T170940Z
LAST-MODIFIED:20200804T171441Z
UID:2096-1599660000-1599843600@ciibizex.in
SUMMARY:Leading Business Transformation
DESCRIPTION:Assessor Training for Leading Business Transformation \n
URL:https://ciibizex.in/event/leading-business-transformation/
END:VEVENT
END:VCALENDAR