BEGIN:VCALENDAR
VERSION:2.0
PRODID:-//CII BUSINESS EXCELLENCE - ECPv5.0.1//NONSGML v1.0//EN
CALSCALE:GREGORIAN
METHOD:PUBLISH
X-WR-CALNAME:CII BUSINESS EXCELLENCE
X-ORIGINAL-URL:https://ciibizex.in
X-WR-CALDESC:Events for CII BUSINESS EXCELLENCE
BEGIN:VTIMEZONE
TZID:Asia/Kolkata
BEGIN:STANDARD
TZOFFSETFROM:+0530
TZOFFSETTO:+0530
TZNAME:IST
DTSTART:20210101T000000
END:STANDARD
END:VTIMEZONE
BEGIN:VEVENT
DTSTART;TZID=Asia/Kolkata:20210726T110000
DTEND;TZID=Asia/Kolkata:20210728T160000
DTSTAMP:20260420T111330
CREATED:20210623T121000Z
LAST-MODIFIED:20210623T121127Z
UID:2639-1627297200-1627488000@ciibizex.in
SUMMARY:Quality Leader to Strategic Quality Leader
DESCRIPTION:
URL:https://ciibizex.in/event/quality-leader-to-strategic-quality-leader-2/
LOCATION:Ahmedabad\, Ahmedabad\, India
END:VEVENT
END:VCALENDAR