BEGIN:VCALENDAR
VERSION:2.0
PRODID:-//CII BUSINESS EXCELLENCE - ECPv5.0.1//NONSGML v1.0//EN
CALSCALE:GREGORIAN
METHOD:PUBLISH
X-WR-CALNAME:CII BUSINESS EXCELLENCE
X-ORIGINAL-URL:https://ciibizex.in
X-WR-CALDESC:Events for CII BUSINESS EXCELLENCE
BEGIN:VTIMEZONE
TZID:Asia/Kolkata
BEGIN:STANDARD
TZOFFSETFROM:+0530
TZOFFSETTO:+0530
TZNAME:IST
DTSTART:20200101T000000
END:STANDARD
END:VTIMEZONE
BEGIN:VEVENT
DTSTART;TZID=Asia/Kolkata:20200312T173000
DTEND;TZID=Asia/Kolkata:20200313T173000
DTSTAMP:20260426T012622
CREATED:20200219T073947Z
LAST-MODIFIED:20200219T112557Z
UID:1636-1584034200-1584120600@ciibizex.in
SUMMARY:Two day workshop on Building a Customer Centric Organization
DESCRIPTION:
URL:https://ciibizex.in/event/two-day-workshop-on-building-a-customer-centric-organization/
LOCATION:Ahmedabad\, Ahmedabad\, India
END:VEVENT
END:VCALENDAR