BEGIN:VCALENDAR
VERSION:2.0
PRODID:-//CII BUSINESS EXCELLENCE - ECPv5.0.1//NONSGML v1.0//EN
CALSCALE:GREGORIAN
METHOD:PUBLISH
X-WR-CALNAME:CII BUSINESS EXCELLENCE
X-ORIGINAL-URL:https://ciibizex.in
X-WR-CALDESC:Events for CII BUSINESS EXCELLENCE
BEGIN:VTIMEZONE
TZID:Asia/Kolkata
BEGIN:STANDARD
TZOFFSETFROM:+0530
TZOFFSETTO:+0530
TZNAME:IST
DTSTART:20220101T000000
END:STANDARD
END:VTIMEZONE
BEGIN:VEVENT
DTSTART;TZID=Asia/Kolkata:20220304T020000
DTEND;TZID=Asia/Kolkata:20220305T180000
DTSTAMP:20260424T134213
CREATED:20220204T081358Z
LAST-MODIFIED:20220204T081359Z
UID:2996-1646359200-1646503200@ciibizex.in
SUMMARY:Workshop on Applying Design Thinking for Business Advantage
DESCRIPTION:\n\n\n\n\n \n\n\n\n\n\n\n\n \n
URL:https://ciibizex.in/event/workshop-on-applying-design-thinking-for-business-advantage-2/
END:VEVENT
END:VCALENDAR