BEGIN:VCALENDAR
VERSION:2.0
PRODID:-//CII BUSINESS EXCELLENCE - ECPv5.0.1//NONSGML v1.0//EN
CALSCALE:GREGORIAN
METHOD:PUBLISH
X-WR-CALNAME:CII BUSINESS EXCELLENCE
X-ORIGINAL-URL:https://ciibizex.in
X-WR-CALDESC:Events for CII BUSINESS EXCELLENCE
BEGIN:VTIMEZONE
TZID:Asia/Kolkata
BEGIN:STANDARD
TZOFFSETFROM:+0530
TZOFFSETTO:+0530
TZNAME:IST
DTSTART:20220101T000000
END:STANDARD
END:VTIMEZONE
BEGIN:VEVENT
DTSTART;TZID=Asia/Kolkata:20220225T020000
DTEND;TZID=Asia/Kolkata:20220226T180000
DTSTAMP:20260424T140824
CREATED:20220204T081328Z
LAST-MODIFIED:20220204T081329Z
UID:2994-1645754400-1645898400@ciibizex.in
SUMMARY:Workshop on Applying Design Thinking for Business Advantage
DESCRIPTION:\n\n\n\n\n \n\n\n\n\n\n\n\n \n
URL:https://ciibizex.in/event/workshop-on-applying-design-thinking-for-business-advantage/
END:VEVENT
END:VCALENDAR