BEGIN:VCALENDAR
VERSION:2.0
PRODID:-//CII BUSINESS EXCELLENCE - ECPv5.0.1//NONSGML v1.0//EN
CALSCALE:GREGORIAN
METHOD:PUBLISH
X-WR-CALNAME:CII BUSINESS EXCELLENCE
X-ORIGINAL-URL:https://ciibizex.in
X-WR-CALDESC:Events for CII BUSINESS EXCELLENCE
BEGIN:VTIMEZONE
TZID:Asia/Kolkata
BEGIN:STANDARD
TZOFFSETFROM:+0530
TZOFFSETTO:+0530
TZNAME:IST
DTSTART:20220101T000000
END:STANDARD
END:VTIMEZONE
BEGIN:VEVENT
DTSTART;TZID=Asia/Kolkata:20220224T100000
DTEND;TZID=Asia/Kolkata:20220225T130000
DTSTAMP:20260424T140510
CREATED:20220204T081011Z
LAST-MODIFIED:20220204T081012Z
UID:2991-1645696800-1645794000@ciibizex.in
SUMMARY:Workshop on Demystifying Finance- Finance for Non-Finance
DESCRIPTION:\n\n\n\n\nDemystifying Business Finance program enables non finance professionals\, especially from functional areas such as sales\, marketing\, human resource\, research and development\, production\, procurement\, to gain working knowledge of critical financial principles\, enabling them to propose business decisions involving cost-savings\, budgets. Participants would be facilitated to understand financial statements as well as grasp the fundamentals of finance. \n\n\n\n\n\n\n\n \n
URL:https://ciibizex.in/event/workshop-on-demystifying-finance-finance-for-non-finance/
END:VEVENT
END:VCALENDAR